BEGIN:VCALENDAR
VERSION:2.0
CALSCALE:GREGORIAN
PRODID:-//Diputació de Barcelona//DibaCMS//EN
BEGIN:VEVENT
UID:5454
DTSTAMP:20260423T164644
DTSTART:20121017T000000
DTEND:20131017T000000
SUMMARY:El Viejas Glorias guanya al camp del Terrassa (1-3) i es col·loca en sisena posició amb set punts
LOCATION:
METHOD:PUBLISH
X-WR-CALNAME:llagosta@llagosta.cat
X-WR-TIMEZONE:Europe/Madrid
DESCRIPTION:El Club Deportivo Viejas Glorias va guanyar la jornada passada al camp del Terrassa per 1 a 3. Els llagostencs van fer un bon partit i van saber remuntar el gol inicial en pròpia porta que va permetre al Terrassa avançar-se en el marcador.
URI:https://www.llagosta.cat/actualitat/noticies/el-viejas-glorias-guanya-al-camp-del-terrassa-1-3-i-es-colloca-en-sisena-posicio-amb-set-punts.html
CLASS:PUBLIC
END:VEVENT
END:VCALENDAR
