BEGIN:VCALENDAR
VERSION:2.0
CALSCALE:GREGORIAN
PRODID:-//Diputació de Barcelona//DibaCMS//EN
BEGIN:VEVENT
UID:5453
DTSTAMP:20260424T035725
DTSTART:20121016T000000
DTEND:20131016T000000
SUMMARY:L'Ajuntament fa tasques de manteniment al Turó abans de reobrir la instal·lació
LOCATION:
METHOD:PUBLISH
X-WR-CALNAME:llagosta@llagosta.cat
X-WR-TIMEZONE:Europe/Madrid
DESCRIPTION:L'Ajuntament de la Llagosta està portant a terme durant aquests dies treballs de manteniment al Complex Esportiu Municipal El Turó. Neteja, control sanitari, pintura i electricitat són les actuacions prioritàries que s'estan executant.
URI:https://www.llagosta.cat/actualitat/noticies/lajuntament-fa-tasques-de-manteniment-al-turo-abans-de-reobrir-la-installacio.html
CLASS:PUBLIC
END:VEVENT
END:VCALENDAR
