BEGIN:VCALENDAR
VERSION:2.0
CALSCALE:GREGORIAN
PRODID:-//Diputació de Barcelona//DibaCMS//EN
BEGIN:VEVENT
UID:5452
DTSTAMP:20260424T033923
DTSTART:20121016T000000
DTEND:20131012T000000
SUMMARY:El Banc de Sang va aconseguir ahir 35 donacions en la quarta captació de l'any
LOCATION:
METHOD:PUBLISH
X-WR-CALNAME:llagosta@llagosta.cat
X-WR-TIMEZONE:Europe/Madrid
DESCRIPTION:Un total de 35 persones van donar sang ahir a la tarda a la Llagosta durant la captació que va realitzar una unitat mòbil del Banc de Sang situada a la plaça d'Antoni Baqué. S'hi van registrar dos donants nous i altres set persones no van poder donar sang per diversos motius.
URI:https://www.llagosta.cat/actualitat/noticies/el-banc-de-sang-va-aconseguir-ahir-35-donacions-en-la-quarta-captacio-de-lany.html
CLASS:PUBLIC
END:VEVENT
END:VCALENDAR
