BEGIN:VCALENDAR
VERSION:2.0
CALSCALE:GREGORIAN
PRODID:-//Diputació de Barcelona//DibaCMS//EN
BEGIN:VEVENT
UID:5451
DTSTAMP:20260423T222337
DTSTART:20121016T000000
DTEND:20131016T000000
SUMMARY:El sènior del Vallag guanya a Martorell per 17 gols a 20 i se situa líder en solitari
LOCATION:
METHOD:PUBLISH
X-WR-CALNAME:llagosta@llagosta.cat
X-WR-TIMEZONE:Europe/Madrid
DESCRIPTION:El sènior de l'Handbol Club Vallag lidera en solitari el grup B de la Segona Catalana. Els de la nostra localitat van guanyar dissabte el Martorell per 17 a 20 i són l'únic equip que ha aconseguit el triomf en les tres jornades disputades.
URI:https://www.llagosta.cat/actualitat/noticies/el-senior-del-vallag-guanya-a-martorell-per-17-gols-a-20-i-se-situa-lider-en-solitari.html
CLASS:PUBLIC
END:VEVENT
END:VCALENDAR
