BEGIN:VCALENDAR
VERSION:2.0
CALSCALE:GREGORIAN
PRODID:-//Diputació de Barcelona//DibaCMS//EN
BEGIN:VEVENT
UID:5449
DTSTAMP:20260424T053854
DTSTART:20121015T000000
DTEND:20131015T000000
SUMMARY:El Sindicat d'Estudiants convoca vaga a Secundària del 16 al 18 d'octubre per les retallades
LOCATION:
METHOD:PUBLISH
X-WR-CALNAME:llagosta@llagosta.cat
X-WR-TIMEZONE:Europe/Madrid
DESCRIPTION:Els alumnes de Secundària de la Llagosta estan cridats a seguir la vaga convocada pel Sindicat d'Estudiants del 16 al 18 d'octubre. Els estudiants volen protestar per les retallades en l'ensenyament públic aplicades pels governs estatal i autonòmic.
URI:https://www.llagosta.cat/actualitat/noticies/el-sindicat-destudiants-convoca-vaga-a-secundaria-del-16-al-18-doctubre-per-les-retallades.html
CLASS:PUBLIC
END:VEVENT
END:VCALENDAR
