BEGIN:VCALENDAR
VERSION:2.0
CALSCALE:GREGORIAN
PRODID:-//Diputació de Barcelona//DibaCMS//EN
BEGIN:VEVENT
UID:5448
DTSTAMP:20260424T015346
DTSTART:20121015T000000
DTEND:20131015T000000
SUMMARY:L'Agrupación de Jubilados de la Llagosta aconsegueix 125 euros per a la Marató de TV3
LOCATION:
METHOD:PUBLISH
X-WR-CALNAME:llagosta@llagosta.cat
X-WR-TIMEZONE:Europe/Madrid
DESCRIPTION:L'Agrupación de Jubilados y Pensionistas de la Llagosta ha estat la segona entitat de la nostra localitat que ha organitzat aquest any una activitat solidària amb la Marató de TV3. Els membres del Casal d'Avis van muntar dissabte un estand per vendre diferents objectes d'artesania, jocs i altres elements.
URI:https://www.llagosta.cat/actualitat/noticies/lagrupacion-de-jubilados-de-la-llagosta-aconsegueix-125-euros-per-a-la-marato-de-tv3.html
CLASS:PUBLIC
END:VEVENT
END:VCALENDAR
