BEGIN:VCALENDAR
VERSION:2.0
CALSCALE:GREGORIAN
PRODID:-//Diputació de Barcelona//DibaCMS//EN
BEGIN:VEVENT
UID:5447
DTSTAMP:20260424T000007
DTSTART:20121015T000000
DTEND:20131016T000000
SUMMARY:Tercera victòria en tres partits del Fútbol Sala Unión Llagostense, que és segon
LOCATION:
METHOD:PUBLISH
X-WR-CALNAME:llagosta@llagosta.cat
X-WR-TIMEZONE:Europe/Madrid
DESCRIPTION:El Fútbol Sala Unión Llagostense es manté invicte en sumar el cap de setmana la tercera victòria de la temporada. Els de la nostra localitat van vèncer ahir el Plata de Gràcia per 3 a 6.
URI:https://www.llagosta.cat/actualitat/noticies/tercera-victoria-en-tres-partits-del-futbol-sala-union-llagostense-que-es-segon.html
CLASS:PUBLIC
END:VEVENT
END:VCALENDAR
