BEGIN:VCALENDAR
VERSION:2.0
CALSCALE:GREGORIAN
PRODID:-//Diputació de Barcelona//DibaCMS//EN
BEGIN:VEVENT
UID:5446
DTSTAMP:20260424T000106
DTSTART:20121015T000000
DTEND:20131015T000000
SUMMARY:Més de vint persones van assistir a una conferència sobre alimentació infantil
LOCATION:
METHOD:PUBLISH
X-WR-CALNAME:llagosta@llagosta.cat
X-WR-TIMEZONE:Europe/Madrid
DESCRIPTION:Més de vint pares, mares i avis van assistir a la xerrada sobre alimentació infantil que es va fer l'11 d'octubre al Casal Infantil. La xerrada va anar a càrrec del tècnic de Salut Pública de l'Ajuntament de la Llagosta, Lluís Julian,  amb el suport de l'equip de monitors del Casal Infantil. 
URI:https://www.llagosta.cat/actualitat/noticies/mes-de-vint-persones-van-assistir-a-una-conferencia-sobre-alimentacio-infantil.html
CLASS:PUBLIC
END:VEVENT
END:VCALENDAR
