BEGIN:VCALENDAR
VERSION:2.0
CALSCALE:GREGORIAN
PRODID:-//Diputació de Barcelona//DibaCMS//EN
BEGIN:VEVENT
UID:5445
DTSTAMP:20260424T051820
DTSTART:20121015T000000
DTEND:20131015T000000
SUMMARY:La Llagosta va acollir dissabte una manifestació en contra del desallotjament de Can Piella
LOCATION:
METHOD:PUBLISH
X-WR-CALNAME:llagosta@llagosta.cat
X-WR-TIMEZONE:Europe/Madrid
DESCRIPTION:Unes 200 persones es van aplegar dissabte a la Llagosta en contra del desallotjament de la masia de Can Piella, al terme municipal de Montcada i Reixac. Els manifestants van recórrer diversos carrers de la nostra localitat i es van adreçar després cap a Montcada, on van continuar la protesta.
URI:https://www.llagosta.cat/actualitat/noticies/la-llagosta-va-acollir-dissabte-una-manifestacio-en-contra-del-desallotjament-de-can-piella.html
CLASS:PUBLIC
END:VEVENT
END:VCALENDAR
