BEGIN:VCALENDAR
VERSION:2.0
CALSCALE:GREGORIAN
PRODID:-//Diputació de Barcelona//DibaCMS//EN
BEGIN:VEVENT
UID:5444
DTSTAMP:20260424T021416
DTSTART:20121011T000000
DTEND:20131011T000000
SUMMARY:El nombre d'aturats va augmentar a la Llagosta en 18 persones al setembre
LOCATION:
METHOD:PUBLISH
X-WR-CALNAME:llagosta@llagosta.cat
X-WR-TIMEZONE:Europe/Madrid
DESCRIPTION:L'atur va augmentar a la Llagosta al setembre en divuit persones. La taxa d'atur s'ha situat en el 20,56%. Així, a 30 de setembre hi havia a la nostra localitat 1.502 inscrits a l'Oficina de Treball de la Generalitat.
URI:https://www.llagosta.cat/actualitat/noticies/el-nombre-daturats-va-augmentar-a-la-llagosta-en-18-persones-al-setembre.html
CLASS:PUBLIC
END:VEVENT
END:VCALENDAR
