BEGIN:VCALENDAR
VERSION:2.0
CALSCALE:GREGORIAN
PRODID:-//Diputació de Barcelona//DibaCMS//EN
BEGIN:VEVENT
UID:5443
DTSTAMP:20260424T021317
DTSTART:20121011T000000
DTEND:20131011T000000
SUMMARY:Els ocupants de la masia de Can Piella es mobilitzen en contra del seu desallotjament
LOCATION:
METHOD:PUBLISH
X-WR-CALNAME:llagosta@llagosta.cat
X-WR-TIMEZONE:Europe/Madrid
DESCRIPTION:El col·lectiu de joves que viuen a la masia de Can Piella, al terme municipal de Montcada i Reixac, a tocar amb la Llagosta i Santa Perpètua, començaran dissabte una sèrie de mobilitzacions contra l'ordre de desallotjar la casa abans del 15 d'octubre.
URI:https://www.llagosta.cat/actualitat/noticies/els-ocupants-de-la-masia-de-can-piella-es-mobilitzen-en-contra-del-seu-desallotjament.html
CLASS:PUBLIC
END:VEVENT
END:VCALENDAR
