BEGIN:VCALENDAR
VERSION:2.0
CALSCALE:GREGORIAN
PRODID:-//Diputació de Barcelona//DibaCMS//EN
BEGIN:VEVENT
UID:5442
DTSTAMP:20260423T183115
DTSTART:20121011T000000
DTEND:20131011T000000
SUMMARY:Nova protesta dels treballadors de l'Ajuntament en contra de les retallades
LOCATION:
METHOD:PUBLISH
X-WR-CALNAME:llagosta@llagosta.cat
X-WR-TIMEZONE:Europe/Madrid
DESCRIPTION:Treballadors de l'Ajuntament de la Llagosta han protagonitzat aquest matí un nou acte de protesta per les retallades que estan aplicant els governs central i autonòmic. Els empleats municipals s'han concentrat a les deu del matí a les portes del Consistori durant deu minuts i han mostrat una pancarta en la qual es podia llegir: Retallen els meus drets. Retallen els teus serveis. 
	
URI:https://www.llagosta.cat/actualitat/noticies/nova-protesta-dels-treballadors-de-lajuntament-en-contra-de-les-retallades.html
CLASS:PUBLIC
END:VEVENT
END:VCALENDAR
