BEGIN:VCALENDAR
VERSION:2.0
CALSCALE:GREGORIAN
PRODID:-//Diputació de Barcelona//DibaCMS//EN
BEGIN:VEVENT
UID:5441
DTSTAMP:20260424T075419
DTSTART:20121011T000000
DTEND:20131011T000000
SUMMARY:El sènior de l'EBC, molt perjudicat per l'arbitratge, perd a la pista del Sant Gervasi
LOCATION:
METHOD:PUBLISH
X-WR-CALNAME:llagosta@llagosta.cat
X-WR-TIMEZONE:Europe/Madrid
DESCRIPTION:El sènior de l'Esportiu Bàsquet Club de la Llagosta va perdre la jornada passada per 89 a 64 davant del Sant Gervasi 2. Els llagostencs rebran aquest cap de setmana el Montmeló.
URI:https://www.llagosta.cat/actualitat/noticies/el-senior-de-lebc-molt-perjudicat-per-larbitratge-perd-a-la-pista-del-sant-gervasi.html
CLASS:PUBLIC
END:VEVENT
END:VCALENDAR
