BEGIN:VCALENDAR
VERSION:2.0
CALSCALE:GREGORIAN
PRODID:-//Diputació de Barcelona//DibaCMS//EN
BEGIN:VEVENT
UID:5440
DTSTAMP:20260423T112314
DTSTART:20121011T000000
DTEND:20131011T000000
SUMMARY:Dilluns, nova captació de sang a la plaça d'Antoni Baqué en horari de tarda
LOCATION:
METHOD:PUBLISH
X-WR-CALNAME:llagosta@llagosta.cat
X-WR-TIMEZONE:Europe/Madrid
DESCRIPTION:Una unitat mòbil del Banc de Sang vindrà dilluns a la Llagosta per fer una nova captació sanguínia. Les donacions es podran fer de cinc de la tarda a nou del vespre a la plaça d'Antoni Baqué. 
URI:https://www.llagosta.cat/actualitat/noticies/dilluns-nova-captacio-de-sang-a-la-placa-dantoni-baque-en-horari-de-tarda.html
CLASS:PUBLIC
END:VEVENT
END:VCALENDAR
