BEGIN:VCALENDAR
VERSION:2.0
CALSCALE:GREGORIAN
PRODID:-//Diputació de Barcelona//DibaCMS//EN
BEGIN:VEVENT
UID:5439
DTSTAMP:20260423T201424
DTSTART:20121011T000000
DTEND:20131011T000000
SUMMARY:El sènior del CD La Concòrdia derrota el Can Clos i suma el tercer triomf
LOCATION:
METHOD:PUBLISH
X-WR-CALNAME:llagosta@llagosta.cat
X-WR-TIMEZONE:Europe/Madrid
DESCRIPTION:El sènior del Club Deportivo La Concòrdia va guanyar ahir el Can Clos per 2 a 1 en partit corresponent a la tercera jornada de lliga i es manté al capdavant de la classificació empatat a punts amb l'AECS l'Hospitalet. El conjunt llagostenc ha aconseguit el triomf en els tres partits que ha disputat.
URI:https://www.llagosta.cat/actualitat/noticies/el-senior-del-cd-la-concordia-derrota-el-can-clos-i-suma-el-tercer-triomf.html
CLASS:PUBLIC
END:VEVENT
END:VCALENDAR
