BEGIN:VCALENDAR
VERSION:2.0
CALSCALE:GREGORIAN
PRODID:-//Diputació de Barcelona//DibaCMS//EN
BEGIN:VEVENT
UID:5438
DTSTAMP:20260424T035437
DTSTART:20121010T000000
DTEND:20131010T000000
SUMMARY:El Club Esportiu La Llagosta compta aquesta temporada amb catorze conjunts
LOCATION:
METHOD:PUBLISH
X-WR-CALNAME:llagosta@llagosta.cat
X-WR-TIMEZONE:Europe/Madrid
DESCRIPTION:El Club Esportiu La Llagosta té aquesta temporada catorze equips, tretze de futbol base i un amateur a una lliga d'empreses. El club compta aquesta temporada amb uns 180 jugadors. La lliga de la major part dels equips de base va començar el cap de setmana passat.
URI:https://www.llagosta.cat/actualitat/noticies/el-club-esportiu-la-llagosta-compta-aquesta-temporada-amb-catorze-conjunts.html
CLASS:PUBLIC
END:VEVENT
END:VCALENDAR
