BEGIN:VCALENDAR
VERSION:2.0
CALSCALE:GREGORIAN
PRODID:-//Diputació de Barcelona//DibaCMS//EN
BEGIN:VEVENT
UID:5437
DTSTAMP:20260424T020845
DTSTART:20121010T000000
DTEND:20131010T000000
SUMMARY:Es prepara un homenatge pòstum a una de les primeres professores que va tenir la Llagosta
LOCATION:
METHOD:PUBLISH
X-WR-CALNAME:llagosta@llagosta.cat
X-WR-TIMEZONE:Europe/Madrid
DESCRIPTION:Un grup de llagostencs està preparant un homenatge pòstum a Antonia González, Doña Antonia, que va ser una de les primeres professores permanents que va tenir la Llagosta. L'acte se celebrarà el 28 d'octubre al Centre Cultural.
URI:https://www.llagosta.cat/actualitat/noticies/es-prepara-un-homenatge-postum-a-una-de-les-primeres-professores-que-va-tenir-la-llagosta.html
CLASS:PUBLIC
END:VEVENT
END:VCALENDAR
