BEGIN:VCALENDAR
VERSION:2.0
CALSCALE:GREGORIAN
PRODID:-//Diputació de Barcelona//DibaCMS//EN
BEGIN:VEVENT
UID:5436
DTSTAMP:20260423T164611
DTSTART:20121010T000000
DTEND:20131010T000000
SUMMARY:Protecció Civil alerta sobre una alta concentració de pols sahariana
LOCATION:
METHOD:PUBLISH
X-WR-CALNAME:llagosta@llagosta.cat
X-WR-TIMEZONE:Europe/Madrid
DESCRIPTION:Protecció Civil ha fet una sèrie de recomanacions davant l'alta concentració de pols sahariana que hi ha des d'ahir a les zones properes a Barcelona. Aquest episodi, que està previst que es perllongui fins avui, afecta a diverses poblacions del Barcelonès, el Baix Llobregat, el Vallès Occidental i el Vallès Oriental, entre elles la Llagosta.
URI:https://www.llagosta.cat/actualitat/noticies/proteccio-civil-alerta-sobre-una-alta-concentracio-de-pols-sahariana.html
CLASS:PUBLIC
END:VEVENT
END:VCALENDAR
