BEGIN:VCALENDAR
VERSION:2.0
CALSCALE:GREGORIAN
PRODID:-//Diputació de Barcelona//DibaCMS//EN
BEGIN:VEVENT
UID:5435
DTSTAMP:20260424T003203
DTSTART:20121010T000000
DTEND:20131010T000000
SUMMARY:El Casal Infantil acollirà demà una conferència sobre alimentació infantil
LOCATION:
METHOD:PUBLISH
X-WR-CALNAME:llagosta@llagosta.cat
X-WR-TIMEZONE:Europe/Madrid
DESCRIPTION:El Casal Infantil de la Llagosta organitzarà demà la segona activitat del programa Casal Obert. Es tracta d'una xerrada sobre alimentació infantil i què cal fer per tal que mengin bé els fills. 
URI:https://www.llagosta.cat/actualitat/noticies/el-casal-infantil-acollira-dema-una-conferencia-sobre-alimentacio-infantil.html
CLASS:PUBLIC
END:VEVENT
END:VCALENDAR
