BEGIN:VCALENDAR
VERSION:2.0
CALSCALE:GREGORIAN
PRODID:-//Diputació de Barcelona//DibaCMS//EN
BEGIN:VEVENT
UID:5434
DTSTAMP:20260424T053632
DTSTART:20121010T000000
DTEND:20131010T000000
SUMMARY:Detinguts dos veïns de la Llagosta per robar i vendre joies valorades en uns 800 euros
LOCATION:
METHOD:PUBLISH
X-WR-CALNAME:llagosta@llagosta.cat
X-WR-TIMEZONE:Europe/Madrid
DESCRIPTION:La Policia Local de la Llagosta ha detingut dues persones per robar i vendre joies d'or i plata valorades en prop de 800 euros que havien estat sostretes d'un domicili particular. Les detencions es van produir gràcies a les investigacions realitzades per agents de la Policia Local, que van localitzar i recuperar les joies, que posteriorment van ser reconegudes com a pròpies per la víctima del robatori.
URI:https://www.llagosta.cat/actualitat/noticies/detinguts-dos-veins-de-la-llagosta-per-robar-i-vendre-joies-valorades-en-uns-800-euros.html
CLASS:PUBLIC
END:VEVENT
END:VCALENDAR
