BEGIN:VCALENDAR
VERSION:2.0
CALSCALE:GREGORIAN
PRODID:-//Diputació de Barcelona//DibaCMS//EN
BEGIN:VEVENT
UID:5433
DTSTAMP:20260423T201601
DTSTART:20121009T000000
DTEND:20131009T000000
SUMMARY:El ple rescindeix el contracte amb Geafe i encarrega a l'empresa municipal la gestió del Turó
LOCATION:
METHOD:PUBLISH
X-WR-CALNAME:llagosta@llagosta.cat
X-WR-TIMEZONE:Europe/Madrid
DESCRIPTION:El ple de l'Ajuntament va aprovar ahir rescindir el contracte amb Geafe, l'empresa que tenia la concessió de la gestió del Turó, i encarregar a la societat pública Gestió Municipal de Sòl i Patrimoni la gestió d'aquesta instal·lació esportiva. 
URI:https://www.llagosta.cat/actualitat/noticies/el-ple-rescindeix-el-contracte-amb-geafe-i-encarrega-a-lempresa-municipal-la-gestio-del-turo.html
CLASS:PUBLIC
END:VEVENT
END:VCALENDAR
