BEGIN:VCALENDAR
VERSION:2.0
CALSCALE:GREGORIAN
PRODID:-//Diputació de Barcelona//DibaCMS//EN
BEGIN:VEVENT
UID:5432
DTSTAMP:20260423T184625
DTSTART:20121009T000000
DTEND:20131009T000000
SUMMARY:L'Ajuntament prepara una sèrie d'activitats per a les persones grans
LOCATION:
METHOD:PUBLISH
X-WR-CALNAME:llagosta@llagosta.cat
X-WR-TIMEZONE:Europe/Madrid
DESCRIPTION:L'Ajuntament de la Llagosta ha confeccionat la programació d'activitats culturals per a la gent gran del curs 2012-2013. Entre els actes previstos, hi ha tallers, xerrades i diverses excursions. Totes les activitats, excepte les sortides, són gratuïtes. 
URI:https://www.llagosta.cat/actualitat/noticies/lajuntament-prepara-una-serie-dactivitats-per-a-les-persones-grans.html
CLASS:PUBLIC
END:VEVENT
END:VCALENDAR
