BEGIN:VCALENDAR
VERSION:2.0
CALSCALE:GREGORIAN
PRODID:-//Diputació de Barcelona//DibaCMS//EN
BEGIN:VEVENT
UID:5431
DTSTAMP:20260423T223408
DTSTART:20121009T000000
DTEND:20131009T000000
SUMMARY:Can Pelegrí acollirà demà una xerrada sobre els subministraments a la llar
LOCATION:
METHOD:PUBLISH
X-WR-CALNAME:llagosta@llagosta.cat
X-WR-TIMEZONE:Europe/Madrid
DESCRIPTION:L'Ajuntament de la Llagosta organitzarà demà dimecres la segona de les xerrades sobre consum d'aquest mes d'octubre. L'acte es farà a Can Pelegrí a partir de les set de la tarda.
URI:https://www.llagosta.cat/actualitat/noticies/can-pelegri-acollira-dema-una-xerrada-sobre-els-subministraments-a-la-llar.html
CLASS:PUBLIC
END:VEVENT
END:VCALENDAR
