BEGIN:VCALENDAR
VERSION:2.0
CALSCALE:GREGORIAN
PRODID:-//Diputació de Barcelona//DibaCMS//EN
BEGIN:VEVENT
UID:5430
DTSTAMP:20260424T073939
DTSTART:20121009T000000
DTEND:20131009T000000
SUMMARY:Segona victòria del sènior del Vallag, que es manté a la part alta de la classificació
LOCATION:
METHOD:PUBLISH
X-WR-CALNAME:llagosta@llagosta.cat
X-WR-TIMEZONE:Europe/Madrid
DESCRIPTION:El sènior de l'Handbol Club Vallag va guanyar dissabte l'Alcarràs per 28 a 22. Els llagostencs han aconseguit el triomf en els dos partits que han disputat fins ara i es troben situats a la zona alta de la classificació al grup B de la Segona Catalana.
URI:https://www.llagosta.cat/actualitat/noticies/segona-victoria-del-senior-del-vallag-que-es-mante-a-la-part-alta-de-la-classificacio.html
CLASS:PUBLIC
END:VEVENT
END:VCALENDAR
