BEGIN:VCALENDAR
VERSION:2.0
CALSCALE:GREGORIAN
PRODID:-//Diputació de Barcelona//DibaCMS//EN
BEGIN:VEVENT
UID:5429
DTSTAMP:20260424T015322
DTSTART:20121008T000000
DTEND:20131008T000000
SUMMARY:La Unión Llagostense goleja (6-0) el Cardedeu i suma el segon triomf a la lliga
LOCATION:
METHOD:PUBLISH
X-WR-CALNAME:llagosta@llagosta.cat
X-WR-TIMEZONE:Europe/Madrid
DESCRIPTION:El Fútbol Sala Unión Llagostense va sumar la segona victòria de la temporada al partit disputat dissabte contra el Cardedeu. Els de la nostra localitat van guanyar per un clar 6 a 0.
URI:https://www.llagosta.cat/actualitat/noticies/la-union-llagostense-goleja-6-0-el-cardedeu-i-suma-el-segon-triomf-a-la-lliga.html
CLASS:PUBLIC
END:VEVENT
END:VCALENDAR
