BEGIN:VCALENDAR
VERSION:2.0
CALSCALE:GREGORIAN
PRODID:-//Diputació de Barcelona//DibaCMS//EN
BEGIN:VEVENT
UID:5428
DTSTAMP:20260424T033951
DTSTART:20121008T000000
DTEND:20131008T000000
SUMMARY:El Consistori celebra avui un ple extraordinari amb dos punts relacionats amb el Turó
LOCATION:
METHOD:PUBLISH
X-WR-CALNAME:llagosta@llagosta.cat
X-WR-TIMEZONE:Europe/Madrid
DESCRIPTION:L'Ajuntament celebrarà avui un ple extraordinari a partir de les set de la tarda durant el qual rescindirà el contracte amb Geafe, empresa que té la concessió de la gestió del Turó, i s'encarregarà a l'empresa pública Societat Municipal Gestió de Sòl i Patrimoni la gestió d'aquesta instal·lació esportiva. 
URI:https://www.llagosta.cat/actualitat/noticies/el-consistori-celebra-avui-un-ple-extraordinari-amb-dos-punts-relacionats-amb-el-turo.html
CLASS:PUBLIC
END:VEVENT
END:VCALENDAR
