BEGIN:VCALENDAR
VERSION:2.0
CALSCALE:GREGORIAN
PRODID:-//Diputació de Barcelona//DibaCMS//EN
BEGIN:VEVENT
UID:5427
DTSTAMP:20260424T015519
DTSTART:20121008T000000
DTEND:20131008T000000
SUMMARY:Unes setanta entitats van assistir a la reunió per col·laborar amb la Marató de TV3
LOCATION:
METHOD:PUBLISH
X-WR-CALNAME:llagosta@llagosta.cat
X-WR-TIMEZONE:Europe/Madrid
DESCRIPTION:Les entitats, grups, associacions i col·lectius de la Llagosta que vulguin organitzar alguna activitat solidària amb la Marató de TV3 ja ho poden comunicar a l'Ajuntament de la nostra localitat. A la reunió informativa per començar a coordinar la programació, celebrada dijous, van assistir una setantena d'entitats.
URI:https://www.llagosta.cat/actualitat/noticies/unes-setanta-entitats-van-assistir-a-la-reunio-per-collaborar-amb-la-marato-de-tv3.html
CLASS:PUBLIC
END:VEVENT
END:VCALENDAR
