BEGIN:VCALENDAR
VERSION:2.0
CALSCALE:GREGORIAN
PRODID:-//Diputació de Barcelona//DibaCMS//EN
BEGIN:VEVENT
UID:5426
DTSTAMP:20260424T015852
DTSTART:20121008T000000
DTEND:20131008T000000
SUMMARY:Avui surt al carrer el Butlletí d'Informació Municipal corresponent al mes d'octubre
LOCATION:
METHOD:PUBLISH
X-WR-CALNAME:llagosta@llagosta.cat
X-WR-TIMEZONE:Europe/Madrid
DESCRIPTION:L'Ajuntament de la Llagosta distribueix avui el Butlletí d'Informació Municipal del mes d'octubre. La publicació recull en la portada les darreres notícies sobre el Complex Esportiu Municipal El Turó. A més, inclou un resum fotogràfic de la Festa Major.
URI:https://www.llagosta.cat/actualitat/noticies/avui-surt-al-carrer-el-butlleti-dinformacio-municipal-corresponent-al-mes-doctubre.html
CLASS:PUBLIC
END:VEVENT
END:VCALENDAR
