BEGIN:VCALENDAR
VERSION:2.0
CALSCALE:GREGORIAN
PRODID:-//Diputació de Barcelona//DibaCMS//EN
BEGIN:VEVENT
UID:5425
DTSTAMP:20260423T184032
DTSTART:20121008T000000
DTEND:20131008T000000
SUMMARY:Els veïns poden consultar fins al 15 d'octubre a l'Ajuntament el cens electoral
LOCATION:
METHOD:PUBLISH
X-WR-CALNAME:llagosta@llagosta.cat
X-WR-TIMEZONE:Europe/Madrid
DESCRIPTION:Els veïns de la Llagosta poden consultar des d'avui i fins al 15 d'octubre les llistes del cens electoral a l'Oficina d'Atenció a la Ciutadania de l'Ajuntament de la Llagosta amb motiu de les properes eleccions al Parlament de Catalunya. L'horari de revisió del cens és al matí, de dilluns a divendres, de dos quarts de nou a dues, i dimarts i dijous, de quatre a vuit. En cas de voler efectuar qualsevol reclamació es podrà fer a la mateixa Oficina d'Atenció a la Ciutadania. 
URI:https://www.llagosta.cat/actualitat/noticies/els-veins-poden-consultar-fins-al-15-doctubre-a-lajuntament-el-cens-electoral.html
CLASS:PUBLIC
END:VEVENT
END:VCALENDAR
