BEGIN:VCALENDAR
VERSION:2.0
CALSCALE:GREGORIAN
PRODID:-//Diputació de Barcelona//DibaCMS//EN
BEGIN:VEVENT
UID:5424
DTSTAMP:20260423T134337
DTSTART:20121008T000000
DTEND:20131008T000000
SUMMARY:El Viejas Glorias perdona massa en atac i perd a casa contra el Santa Perpètua (1-2)
LOCATION:
METHOD:PUBLISH
X-WR-CALNAME:llagosta@llagosta.cat
X-WR-TIMEZONE:Europe/Madrid
DESCRIPTION:El Club Deportivo Viejas Glorias va patir dissabte la primera derrota de la temporada en perdre a casa per 1 a 2 contra el Santa Perpètua. El conjunt llagostenc va desaprofitar massa ocasions de gol, mentre que els visitants en van tenir menys però no van perdonar.
URI:https://www.llagosta.cat/actualitat/noticies/el-viejas-glorias-perdona-massa-en-atac-i-perd-a-casa-contra-el-santa-perpetua-1-2.html
CLASS:PUBLIC
END:VEVENT
END:VCALENDAR
