BEGIN:VCALENDAR
VERSION:2.0
CALSCALE:GREGORIAN
PRODID:-//Diputació de Barcelona//DibaCMS//EN
BEGIN:VEVENT
UID:5423
DTSTAMP:20260423T131744
DTSTART:20121005T000000
DTEND:20131005T000000
SUMMARY:L'Ajuntament fa nous tràmits de cara a la reobertura del Complex Esportiu El Turó
LOCATION:
METHOD:PUBLISH
X-WR-CALNAME:llagosta@llagosta.cat
X-WR-TIMEZONE:Europe/Madrid
DESCRIPTION:La Junta General de l'empresa municipal de l'Ajuntament de la Llagosta, Societat Municipal Gestió de Sòl i Patrimoni, va acordar ahir modificar els seus estatuts per tal que pugui fer-se càrrec de la gestió, de forma temporal, del Complex Esportiu Municipal El Turó. Durant la reunió, també es va ratificar el nomenament dels consellers delegats acordat dilluns pel Consell d'Administració.
URI:https://www.llagosta.cat/actualitat/noticies/lajuntament-fa-nous-tramits-de-cara-a-la-reobertura-del-complex-esportiu-el-turo.html
CLASS:PUBLIC
END:VEVENT
END:VCALENDAR
