BEGIN:VCALENDAR
VERSION:2.0
CALSCALE:GREGORIAN
PRODID:-//Diputació de Barcelona//DibaCMS//EN
BEGIN:VEVENT
UID:5422
DTSTAMP:20260424T033720
DTSTART:20121005T000000
DTEND:20131005T000000
SUMMARY:El sènior del Joventut Handbol començarà la lliga el dia 21 a casa contra l'Agramunt B
LOCATION:
METHOD:PUBLISH
X-WR-CALNAME:llagosta@llagosta.cat
X-WR-TIMEZONE:Europe/Madrid
DESCRIPTION:El Joventut Handbol La Llagosta ja coneix el calendari del conjunt sènior, que militarà al grup A de la Tercera Divisió Catalana. El club va fer el cap de setmana passat la presentació de tots els equips al Poliesportiu Riera Seca.
URI:https://www.llagosta.cat/actualitat/noticies/el-senior-del-joventut-handbol-comencara-la-lliga-el-dia-21-a-casa-contra-lagramunt-b.html
CLASS:PUBLIC
END:VEVENT
END:VCALENDAR
