BEGIN:VCALENDAR
VERSION:2.0
CALSCALE:GREGORIAN
PRODID:-//Diputació de Barcelona//DibaCMS//EN
BEGIN:VEVENT
UID:5421
DTSTAMP:20260423T220705
DTSTART:20121005T000000
DTEND:20131005T000000
SUMMARY:Les Llagostes de l'Avern participaran demà en un acte a Sant Pere de Ribes
LOCATION:
METHOD:PUBLISH
X-WR-CALNAME:llagosta@llagosta.cat
X-WR-TIMEZONE:Europe/Madrid
DESCRIPTION:La colla infantil de diables de la Llagosta, les Llagostes de l'Avern, viatjarà demà fins a Sant Pere de Ribes. El grup participarà al Correspurnes, que tindrà lloc al nucli de les Roquetes.
URI:https://www.llagosta.cat/actualitat/noticies/les-llagostes-de-lavern-participaran-dema-en-un-acte-a-sant-pere-de-ribes.html
CLASS:PUBLIC
END:VEVENT
END:VCALENDAR
