BEGIN:VCALENDAR
VERSION:2.0
CALSCALE:GREGORIAN
PRODID:-//Diputació de Barcelona//DibaCMS//EN
BEGIN:VEVENT
UID:5420
DTSTAMP:20260423T164239
DTSTART:20121005T000000
DTEND:20131005T000000
SUMMARY:Treballadors de l'Ajuntament de la Llagosta es concentren en contra de les retallades
LOCATION:
METHOD:PUBLISH
X-WR-CALNAME:llagosta@llagosta.cat
X-WR-TIMEZONE:Europe/Madrid
DESCRIPTION:Un grup de treballadors de l'Ajuntament de la Llagosta s'ha manifestat aquest matí per protestar contra les retallades que han aplicat en els darrers mesos els governs central i autonòmic. L'acte s'ha portat a terme davant de les portes de l'edifici Consistorial.
URI:https://www.llagosta.cat/actualitat/noticies/treballadors-de-lajuntament-de-la-llagosta-es-concentren-en-contra-de-les-retallades.html
CLASS:PUBLIC
END:VEVENT
END:VCALENDAR
