BEGIN:VCALENDAR
VERSION:2.0
CALSCALE:GREGORIAN
PRODID:-//Diputació de Barcelona//DibaCMS//EN
BEGIN:VEVENT
UID:5419
DTSTAMP:20260424T091438
DTSTART:20121004T000000
DTEND:20131004T000000
SUMMARY:L'equip sènior de la Concòrdia es col·loca líder després de derrotar el Mont-roig (3-6)
LOCATION:
METHOD:PUBLISH
X-WR-CALNAME:llagosta@llagosta.cat
X-WR-TIMEZONE:Europe/Madrid
DESCRIPTION:El sènior del Club Deportivo la Concòrdia s'ha situat líder de la Divisió d'Honor Catalana després de guanyar, en partit corresponent a la segona jornada de lliga, a la pista del Mont-roig per 3 a 6. Les de la nostra localitat han aconseguit el triomf en els dos enfrontaments que han disputat.
URI:https://www.llagosta.cat/actualitat/noticies/lequip-senior-de-la-concordia-es-colloca-lider-despres-de-derrotar-el-mont-roig-3-6.html
CLASS:PUBLIC
END:VEVENT
END:VCALENDAR
