BEGIN:VCALENDAR
VERSION:2.0
CALSCALE:GREGORIAN
PRODID:-//Diputació de Barcelona//DibaCMS//EN
BEGIN:VEVENT
UID:5418
DTSTAMP:20260423T113858
DTSTART:20121004T000000
DTEND:20131004T000000
SUMMARY:La Plataforma d'Afectats per la Hipoteca recull 2.000 firmes a favor de la dació en pagament
LOCATION:
METHOD:PUBLISH
X-WR-CALNAME:llagosta@llagosta.cat
X-WR-TIMEZONE:Europe/Madrid
DESCRIPTION:La Plataforma d'Afectats per la Hipoteca de la Llagosta ha recollit ja unes 2.000 firmes de suport a una Iniciativa Legislativa Popular (ILP) per demanar la dació en el pagament de la hipoteca. A finals d'aquest mes es presentaran al Congrés dels Diputats totes les adhesions a aquesta iniciativa. 
URI:https://www.llagosta.cat/actualitat/noticies/la-plataforma-dafectats-per-la-hipoteca-recull-2000-firmes-a-favor-de-la-dacio-en-pagament.html
CLASS:PUBLIC
END:VEVENT
END:VCALENDAR
