BEGIN:VCALENDAR
VERSION:2.0
CALSCALE:GREGORIAN
PRODID:-//Diputació de Barcelona//DibaCMS//EN
BEGIN:VEVENT
UID:5417
DTSTAMP:20260423T133146
DTSTART:20121004T000000
DTEND:20131004T000000
SUMMARY:El sènior masculí de l'EBC La Llagosta suma el segon triomf davant de la Garriga
LOCATION:
METHOD:PUBLISH
X-WR-CALNAME:llagosta@llagosta.cat
X-WR-TIMEZONE:Europe/Madrid
DESCRIPTION:El primer equip de l'Esportiu Bàsquet Club La Llagosta visitarà la propera jornada la pista del Sant Gervasi 2. Els de la nostra localitat afronten el partit després de sumar el cap de setmana passat la segona victòria de la temporada en guanyar la Garriga per 71 a 56.
URI:https://www.llagosta.cat/actualitat/noticies/el-senior-masculi-de-lebc-la-llagosta-suma-el-segon-triomf-davant-de-la-garriga.html
CLASS:PUBLIC
END:VEVENT
END:VCALENDAR
