BEGIN:VCALENDAR
VERSION:2.0
CALSCALE:GREGORIAN
PRODID:-//Diputació de Barcelona//DibaCMS//EN
BEGIN:VEVENT
UID:5416
DTSTAMP:20260423T131603
DTSTART:20121004T000000
DTEND:20131004T000000
SUMMARY:La Colla Gegantera de la Llagosta assistirà diumenge a una trobada a Barcelona
LOCATION:
METHOD:PUBLISH
X-WR-CALNAME:llagosta@llagosta.cat
X-WR-TIMEZONE:Europe/Madrid
DESCRIPTION:La Colla Gegantera de la Llagosta participarà el cap de setmana a la tercera Trobada de gegants i capgrossos de l'Esquerra de l'Eixample, a Barcelona. L'acte es farà diumenge al matí, amb motiu de la Festa Major del barri.
URI:https://www.llagosta.cat/actualitat/noticies/la-colla-gegantera-de-la-llagosta-assistira-diumenge-a-una-trobada-a-barcelona.html
CLASS:PUBLIC
END:VEVENT
END:VCALENDAR
