BEGIN:VCALENDAR
VERSION:2.0
CALSCALE:GREGORIAN
PRODID:-//Diputació de Barcelona//DibaCMS//EN
BEGIN:VEVENT
UID:5415
DTSTAMP:20260424T015752
DTSTART:20121003T000000
DTEND:20131003T000000
SUMMARY:L'Ajuntament convoca una reunió amb les entitats per col·laborar amb la Marató de TV3
LOCATION:
METHOD:PUBLISH
X-WR-CALNAME:llagosta@llagosta.cat
X-WR-TIMEZONE:Europe/Madrid
DESCRIPTION:L'Ajuntament de la Llagosta ha convocat a totes les entitats de la nostra localitat amb la intenció de preparar activitats solidàries per recaptar fons per a la Marató de TV3. La reunió se celebrarà demà a les vuit del vespre a la Sala de Plens.
URI:https://www.llagosta.cat/actualitat/noticies/lajuntament-convoca-una-reunio-amb-les-entitats-per-collaborar-amb-la-marato-de-tv3.html
CLASS:PUBLIC
END:VEVENT
END:VCALENDAR
