BEGIN:VCALENDAR
VERSION:2.0
CALSCALE:GREGORIAN
PRODID:-//Diputació de Barcelona//DibaCMS//EN
BEGIN:VEVENT
UID:5414
DTSTAMP:20260424T021427
DTSTART:20121003T000000
DTEND:20131003T000000
SUMMARY:A partir de la setmana que ve es començarà a vacunar a l'ambulatori contra la grip
LOCATION:
METHOD:PUBLISH
X-WR-CALNAME:llagosta@llagosta.cat
X-WR-TIMEZONE:Europe/Madrid
DESCRIPTION:El Centre d'Assistència Primària (CAP) de La Llagosta començarà a vacunar contra la grip la propera setmana. Les persones que hagin de vacunar-se ja poden demanar hora al taulell de l'ambulatori.
URI:https://www.llagosta.cat/actualitat/noticies/a-partir-de-la-setmana-que-ve-es-comencara-a-vacunar-a-lambulatori-contra-la-grip.html
CLASS:PUBLIC
END:VEVENT
END:VCALENDAR
