BEGIN:VCALENDAR
VERSION:2.0
CALSCALE:GREGORIAN
PRODID:-//Diputació de Barcelona//DibaCMS//EN
BEGIN:VEVENT
UID:5413
DTSTAMP:20260423T170154
DTSTART:20121003T000000
DTEND:20131003T000000
SUMMARY:El Club Esportiu Fondistes aprova el seu calendari d'activitats de la nova temporada
LOCATION:
METHOD:PUBLISH
X-WR-CALNAME:llagosta@llagosta.cat
X-WR-TIMEZONE:Europe/Madrid
DESCRIPTION:El Club Esportiu Fondistes de la Llagosta organitzarà aquest any un parell de xerrades, una nova Running Day, la tradicional Cursa Els 10 de la Llagosta i una passejada per recaptar fons per a la Marató de TV3. A més, com a novetat d'aquesta temporada farà un cros infantil.
URI:https://www.llagosta.cat/actualitat/noticies/el-club-esportiu-fondistes-aprova-el-seu-calendari-dactivitats-de-la-nova-temporada.html
CLASS:PUBLIC
END:VEVENT
END:VCALENDAR
