BEGIN:VCALENDAR
VERSION:2.0
CALSCALE:GREGORIAN
PRODID:-//Diputació de Barcelona//DibaCMS//EN
BEGIN:VEVENT
UID:5412
DTSTAMP:20260423T073454
DTSTART:20121003T000000
DTEND:20131003T000000
SUMMARY:El sènior de l'Handbol Club Vallag debuta a la lliga amb una victòria a domicili
LOCATION:
METHOD:PUBLISH
X-WR-CALNAME:llagosta@llagosta.cat
X-WR-TIMEZONE:Europe/Madrid
DESCRIPTION:El sènior de l'Handbol Club Vallag de la Llagosta ha començat la competició amb una victòria. Els de la nostra localitat van vèncer dissabte el Sant Martí Adrianenc C per 27 a 34. 
URI:https://www.llagosta.cat/actualitat/noticies/el-senior-de-lhandbol-club-vallag-debuta-a-la-lliga-amb-una-victoria-a-domicili.html
CLASS:PUBLIC
END:VEVENT
END:VCALENDAR
