BEGIN:VCALENDAR
VERSION:2.0
CALSCALE:GREGORIAN
PRODID:-//Diputació de Barcelona//DibaCMS//EN
BEGIN:VEVENT
UID:5411
DTSTAMP:20260423T144931
DTSTART:20121002T000000
DTEND:20131002T000000
SUMMARY:Es manté oberta la inscripció per a un nou curs de fotografia digital del Foto-Club
LOCATION:
METHOD:PUBLISH
X-WR-CALNAME:llagosta@llagosta.cat
X-WR-TIMEZONE:Europe/Madrid
DESCRIPTION:El Foto-Club La Llagosta manté obert el període d'inscripcions per participar en un nou curs de fotografia digital. Les persones interessades poden passar pel Centre Cultural i Juvenil Can Pelegrí fins al 17 d'octubre.
URI:https://www.llagosta.cat/actualitat/noticies/es-mante-oberta-la-inscripcio-per-a-un-nou-curs-de-fotografia-digital-del-foto-club.html
CLASS:PUBLIC
END:VEVENT
END:VCALENDAR
