BEGIN:VCALENDAR
VERSION:2.0
CALSCALE:GREGORIAN
PRODID:-//Diputació de Barcelona//DibaCMS//EN
BEGIN:VEVENT
UID:5410
DTSTAMP:20260423T182829
DTSTART:20121002T000000
DTEND:20131002T000000
SUMMARY:El Consistori organitza aquest mes diverses xerrades sobre temes de consum
LOCATION:
METHOD:PUBLISH
X-WR-CALNAME:llagosta@llagosta.cat
X-WR-TIMEZONE:Europe/Madrid
DESCRIPTION:L'Ajuntament de la Llagosta organitza aquest mes d'octubre tot un seguit de xerrades sobre temes de consum. Comerciants i consumidors són els destinataris d'aquestes conferències, que compten amb la col·laboració de la Diputació de Barcelona.
URI:https://www.llagosta.cat/actualitat/noticies/el-consistori-organitza-aquest-mes-diverses-xerrades-sobre-temes-de-consum.html
CLASS:PUBLIC
END:VEVENT
END:VCALENDAR
