BEGIN:VCALENDAR
VERSION:2.0
CALSCALE:GREGORIAN
PRODID:-//Diputació de Barcelona//DibaCMS//EN
BEGIN:VEVENT
UID:5409
DTSTAMP:20260423T094650
DTSTART:20121002T000000
DTEND:20131002T000000
SUMMARY:L'Ajuntament vol que l'empresa municipal gestioni el Complex Esportiu El Turó
LOCATION:
METHOD:PUBLISH
X-WR-CALNAME:llagosta@llagosta.cat
X-WR-TIMEZONE:Europe/Madrid
DESCRIPTION:L'equip de govern municipal està fent els tràmits oportuns per tal que l'empresa pública de l'Ajuntament de la Llagosta Societat Municipal Gestió de Sòl i Patrimoni gestioni temporalment el Complex Esportiu Municipal El Turó. Aquesta firma es farà càrrec de la contractació dels treballadors que va acomiadar Geafe, concessionària del servei, per poder reobrir el centre com més aviat millor. En principi, es mantenen les dates d'entre el 15 i el 22 d'octubre per tal que el Turó sigui reobert.
URI:https://www.llagosta.cat/actualitat/noticies/lajuntament-vol-que-lempresa-municipal-gestioni-el-complex-esportiu-el-turo.html
CLASS:PUBLIC
END:VEVENT
END:VCALENDAR
