BEGIN:VCALENDAR
VERSION:2.0
CALSCALE:GREGORIAN
PRODID:-//Diputació de Barcelona//DibaCMS//EN
BEGIN:VEVENT
UID:5408
DTSTAMP:20260423T235648
DTSTART:20121002T000000
DTEND:20131002T000000
SUMMARY:El Viejas Glorias guanya al camp del Can Clos i suma la primera victòria de la lliga
LOCATION:
METHOD:PUBLISH
X-WR-CALNAME:llagosta@llagosta.cat
X-WR-TIMEZONE:Europe/Madrid
DESCRIPTION:El Club Deportivo Viejas Glorias va aconseguir la jornada passada la primera victòria en la lliga. Els llagostencs van derrotar el Can Clos per 0 a 3 en un partit que van dominar en tot moment. 
URI:https://www.llagosta.cat/actualitat/noticies/el-viejas-glorias-guanya-al-camp-del-can-clos-i-suma-la-primera-victoria-de-la-lliga.html
CLASS:PUBLIC
END:VEVENT
END:VCALENDAR
