BEGIN:VCALENDAR
VERSION:2.0
CALSCALE:GREGORIAN
PRODID:-//Diputació de Barcelona//DibaCMS//EN
BEGIN:VEVENT
UID:5407
DTSTAMP:20260424T051709
DTSTART:20121001T000000
DTEND:20131001T000000
SUMMARY:La Unión Llagostense comença la lliga amb una victòria a la pista de l'Oliveras
LOCATION:
METHOD:PUBLISH
X-WR-CALNAME:llagosta@llagosta.cat
X-WR-TIMEZONE:Europe/Madrid
DESCRIPTION:El Fútbol Sala Unión Llagostense ha començat la lliga amb una victòria. Els de la nostra localitat van derrotar dissabte l'Oliveras Futsal de Santa Coloma de Gramenet per 5 a 7.
URI:https://www.llagosta.cat/actualitat/noticies/la-union-llagostense-comenca-la-lliga-amb-una-victoria-a-la-pista-de-loliveras.html
CLASS:PUBLIC
END:VEVENT
END:VCALENDAR
