BEGIN:VCALENDAR
VERSION:2.0
CALSCALE:GREGORIAN
PRODID:-//Diputació de Barcelona//DibaCMS//EN
BEGIN:VEVENT
UID:5406
DTSTAMP:20260424T015228
DTSTART:20121001T000000
DTEND:20131001T000000
SUMMARY:L'Ajuntament obre un servei gratuït d'orientació jurídica per als ciutadans
LOCATION:
METHOD:PUBLISH
X-WR-CALNAME:llagosta@llagosta.cat
X-WR-TIMEZONE:Europe/Madrid
DESCRIPTION:L'Ajuntament de la Llagosta posa en marxa un servei gratuït d'orientació jurídica. En aquest nou servei, s'atendran aquelles consultes jurídiques sobre diversos temes com habitatge, subministraments a la llar, compliments de contractes de lloguer o casos relacionats amb dret de família. Queden fora d'aquest servei els casos laborals i d'estrangeria. 
URI:https://www.llagosta.cat/actualitat/noticies/lajuntament-obre-un-servei-gratuit-dorientacio-juridica-per-als-ciutadans.html
CLASS:PUBLIC
END:VEVENT
END:VCALENDAR
