BEGIN:VCALENDAR
VERSION:2.0
CALSCALE:GREGORIAN
PRODID:-//Diputació de Barcelona//DibaCMS//EN
BEGIN:VEVENT
UID:5405
DTSTAMP:20260423T183214
DTSTART:20121001T000000
DTEND:20131001T000000
SUMMARY:La mancomunitat del Galzeran s'amplia amb la incorporació de Vilanova del Vallès
LOCATION:
METHOD:PUBLISH
X-WR-CALNAME:llagosta@llagosta.cat
X-WR-TIMEZONE:Europe/Madrid
DESCRIPTION:La mancomunitat del Galzeran, de la qual forma part l'Ajuntament de la Llagosta, ha decidit la seva ampliació acceptant la incorporació de Vilanova del Vallès. El nostre municipi va participar per primera vegada com a membre de ple dret al ple celebrat la setmana passada. Aquest organisme ja dóna servei a una població de més de 45.000 persones.
URI:https://www.llagosta.cat/actualitat/noticies/la-mancomunitat-del-galzeran-samplia-amb-la-incorporacio-de-vilanova-del-valles.html
CLASS:PUBLIC
END:VEVENT
END:VCALENDAR
