BEGIN:VCALENDAR
VERSION:2.0
CALSCALE:GREGORIAN
PRODID:-//Diputació de Barcelona//DibaCMS//EN
BEGIN:VEVENT
UID:5404
DTSTAMP:20260424T002905
DTSTART:20120928T000000
DTEND:20130928T000000
SUMMARY:El CE Fondistes de la Llagosta celebrarà demà al Turó la seva assemblea anual
LOCATION:
METHOD:PUBLISH
X-WR-CALNAME:llagosta@llagosta.cat
X-WR-TIMEZONE:Europe/Madrid
DESCRIPTION:El Club Esportiu Fondistes de la Llagosta celebrarà demà la seva assemblea anual de socis. L'acte començarà a les cinc de la tarda i es realitzarà al Complex Esportiu Municipal El Turó. 
URI:https://www.llagosta.cat/actualitat/noticies/el-ce-fondistes-de-la-llagosta-celebrara-dema-al-turo-la-seva-assemblea-anual.html
CLASS:PUBLIC
END:VEVENT
END:VCALENDAR
